Workbook

Sheet Disclaimer and Instructions
A2: Disclaimer
A3: IMPORTANT: You must read the following disclaimer before continuing. You are required to read this disclaimer page carefully before accessing, reading or making any other use of this Bondholder Credits Calculator tool.
A14: How to use the tool?
A15: Input the Principal Amount in native currency of your holdings in each series of bonds into column E on the Calculator tab.
A16: --> Refer to column I for the applicable Aggregate Bondholder Credits Amount in US$.
A17: --> Refer to column L for the applicable Aggregate Bondholder Credits Amount in BRL.

Sheet Calculator
E1: Enter your holding in Principal Amount in Native Currency in column below: | I1: Aggregate Bondholder Credits Amounts US$ | L1: Aggregate Bondholder Credits Amounts BRL
I2: =SUM(I6:I25) -> 0 | L2: =SUM(L6:L25) -> 0
B4: Series of Bonds | C4: ISINs | D4: Native Currency | E4: Principal Amount in Native Currency | F4: Interest Accrual in Native Currency | G4: Bondholder Credits Amount in Native Currency | H4: Applicable Exchange Rate to US$ | I4: Bondholder Credits Amount in US$ (1) | L4: Bondholder Credits Amount in BRL (2)
E5: A | F5: B | G5: A+B | H5: C | I5: D | L5: E
B6: Oi’s 9.75% Senior Notes due 2016 | C6: USP18445AF68 | D6: R$ | F6: =G6-E6 -> 0 | G6: =Total!G4/Total!E4*Calculator!E6 -> 0 | H6: 3.2845 | I6: =G6/H6 -> 0 | J6: (A+B)/C | L6: =I6*$H$6 -> 0 | M6: D*3.2845
C7: US10553MAC55
B8: Oi’s 5.125% Senior Notes due 2017 | C8: XS0569301327 | D8: € | F8: =G8-E8 -> 0 | G8: =Total!G6/Total!E6*Calculator!E8 -> 0 | H8: 1.177 | I8: =G8*H8 -> 0 | J8: (A+B)*C | L8: =I8*$H$6 -> 0 | M8: D*3.2845
C9: XS0569301830
B10: Oi’s 9.50% Senior Notes due 2019 | C10: USP9037HAK97 | D10: US$ | F10: =G10-E10 -> 0 | G10: =Total!G8/Total!E8*Calculator!E10 -> 0 | H10: 1 | I10: =G10*H10 -> 0 | J10: (A+B)*C | L10: =I10*$H$6 -> 0 | M10: D*3.2845
C11: US87944LAD10
B12: Oi’s 5.50% Senior Notes due 2020 | C12: USP9037HAL70 | D12: US$ | F12: =G12-E12 -> 0 | G12: =Total!G10/Total!E10*Calculator!E12 -> 0 | H12: 1 | I12: =G12*H12 -> 0 | J12: (A+B)*C | L12: =I12*$H$6 -> 0 | M12: D*3.2845
C13: US87944LAE92
C14: US87944LAF67
B15: PTIF’s 6.25% Notes due 2016 | C15: PTPTCYOM0008 | D15: € | F15: =G15-E15 -> 0 | G15: =Total!G13/Total!E13*Calculator!E15 -> 0 | H15: 1.177 | I15: =G15*H15 -> 0 | J15: (A+B)*C | L15: =I15*$H$6 -> 0 | M15: D*3.2845
B16: PTIF’s 4.375% Notes due March 2017 | C16: XS0215828913 | D16: € | F16: =G16-E16 -> 0 | G16: =Total!G14/Total!E14*Calculator!E16 -> 0 | H16: 1.177 | I16: =G16*H16 -> 0 | J16: (A+B)*C | L16: =I16*$H$6 -> 0 | M16: D*3.2845
B17: PTIF’s 5.242% Notes due November 2017 | C17: XS0441479804 | D17: € | F17: =G17-E17 -> 0 | G17: =Total!G15/Total!E15*Calculator!E17 -> 0 | H17: 1.177 | I17: =G17*H17 -> 0 | J17: (A+B)*C | L17: =I17*$H$6 -> 0 | M17: D*3.2845
B18: PTIF’s 5.875% Notes due 2018 | C18: XS0843939918 | D18: € | F18: =G18-E18 -> 0 | G18: =Total!G16/Total!E16*Calculator!E18 -> 0 | H18: 1.177 | I18: =G18*H18 -> 0 | J18: (A+B)*C | L18: =I18*$H$6 -> 0 | M18: D*3.2845
B19: PTIF’s 5.00% Notes due 2019 | C19: XS0462994343 | D19: € | F19: =G19-E19 -> 0 | G19: =Total!G17/Total!E17*Calculator!E19 -> 0 | H19: 1.177 | I19: =G19*H19 -> 0 | J19: (A+B)*C | L19: =I19*$H$6 -> 0 | M19: D*3.2845
B20: PTIF’s 4.625% Notes due 2020 | C20: XS0927581842 | D20: € | F20: =G20-E20 -> 0 | G20: =Total!G18/Total!E18*Calculator!E20 -> 0 | H20: 1.177 | I20: =G20*H20 -> 0 | J20: (A+B)*C | L20: =I20*$H$6 -> 0 | M20: D*3.2845
B21: PTIF’s 4.50% Notes due 2025 | C21: XS0221854200 | D21: € | F21: =G21-E21 -> 0 | G21: =Total!G19/Total!E19*Calculator!E21 -> 0 | H21: 1.177 | I21: =G21*H21 -> 0 | J21: (A+B)*C | L21: =I21*$H$6 -> 0 | M21: D*3.2845
B22: Coop’s 5.625% Senior Notes due 2021 | C22: XS1245244402 | D22: € | F22: =G22-E22 -> 0 | G22: =Total!G20/Total!E20*Calculator!E22 -> 0 | H22: 1.177 | I22: =G22*H22 -> 0 | J22: (A+B)*C | L22: =I22*$H$6 -> 0 | M22: D*3.2845
C23: XS1245245045 | H23: 1.177
B24: Coop’s 5.75% Senior Notes due 2022 | C24: USP18445AG42 | D24: US$ | F24: =G24-E24 -> 0 | G24: =Total!G22/Total!E22*Calculator!E24 -> 0 | H24: 1 | I24: =G24*H24 -> 0 | J24: (A+B)*C | L24: =I24*$H$6 -> 0 | M24: D*3.2845
C25: US10553MAD39
B28: Source of Interest Accrual in Native Currency | D28: Represents interest accrued from the last date payment of interest for each series and June 20, 2016, the date of the filing of the petition for judicial reorganization, as calculated by Oi´s treasury department.
B29: Source and Date of FX rate taken | D29: The R$/US$ exchange rates is the closing ask rate on December 11, 2017 as reported by the Brazilian Central Bank. The US$/€ exchange rate is the closing exchange rate on December 11, 2017 as reported by Bloomberg.
B31: (1) For Bonds denominated in Reais, represents (a) the sum of the principal in Reais, plus the interest accrued in Reais, divided by (b) the applicable exchange rate. For Bonds denominated in euros, represents (a) the sum of the principal in Euros plus the interest accrued in euros, multiplied by (b) the applicable exchange rate.
B33: (2) For Bonds denominated in USD, represents (a) the sum of the principal in USD, plus the interest accrued in USD, multiplied by (b) the applicable exchange rate. For Bonds denominated in euros, represents (a) the sum of the principal in Euros plus the interest accrued in euros, multiplied by (b) the applicable exchange rate.

Sheet Total
B2: Series of Bonds | C2: ISINs | D2: Native Currency | E2: Principal Amount in Native Currency | F2: Interest Accrual in Native Currency | G2: Bondholder Credits Amount in Native Currency | H2: Applicable Exchange Rate to US$ | I2: Bondholder Credits Amounts in US$
E3: A | F3: B | G3: A+B | H3: C | I3: D
B4: Oi’s 9.75% Senior Notes due 2016 | C4: USP18445AF68 | D4: R$ | E4: 1055406000 | F4: =G4-E4 -> 27154717 | G4: 1.0825607e+09 | H4: 3.2845 | I4: =G4/H4 -> 3.2959681e+08
C5: US10553MAC55 | F5: =G5-E5 -> 0
B6: Oi’s 5.125% Senior Notes due 2017 | C6: XS0569301327 | D6: € | E6: 578181000 | F6: =G6-E6 -> 15220694 | G6: 5.9340169e+08 | H6: 1.177 | I6: =G6*H6 -> 6.9843379e+08
C7: XS0569301830 | F7: =G7-E7 -> 0
B8: Oi’s 9.50% Senior Notes due 2019 | C8: USP9037HAK97 | D8: US$ | E8: 138058000 | F8: =G8-E8 -> 2076622.4 | G8: 1.4013462e+08 | H8: 1 | I8: =G8*H8 -> 1.4013462e+08
C9: US87944LAD10 | F9: =G9-E9 -> 0
B10: Oi’s 5.50% Senior Notes due 2020 | C10: USP9037HAL70 | D10: US$ | E10: 1787025000 | F10: =G10-E10 -> 15562009 | G10: 1.802587e+09 | H10: 1 | I10: =G10*H10 -> 1.802587e+09
C11: US87944LAE92 | F11: =G11-E11 -> 0
C12: US87944LAF67 | F12: =G12-E12 -> 0 | I12: =G12*H12 -> 0
B13: PTIF’s 6.25% Notes due 2016 | C13: PTPTCYOM0008 | D13: € | E13: 231207000 | F13: =G13-E13 -> 5796054.6 | G13: 2.3700305e+08 | H13: 1.177 | I13: =G13*H13 -> 2.789526e+08
B14: PTIF’s 4.375% Notes due March 2017 | C14: XS0215828913 | D14: € | E14: 384123000 | F14: =G14-E14 -> 4051708.4 | G14: 3.8817471e+08 | H14: 1.177 | I14: =G14*H14 -> 4.5688163e+08
B15: PTIF’s 5.242% Notes due November 2017 | C15: XS0441479804 | D15: € | E15: 250000000 | F15: =G15-E15 -> 8127964.5 | G15: 2.5812796e+08 | H15: 1.177 | I15: =G15*H15 -> 3.0381661e+08
B16: PTIF’s 5.875% Notes due 2018 | C16: XS0843939918 | D16: € | E16: 750000000 | F16: =G16-E16 -> 7726027.4 | G16: 7.5772603e+08 | H16: 1.177 | I16: =G16*H16 -> 8.9184353e+08
B17: PTIF’s 5.00% Notes due 2019 | C17: XS0462994343 | D17: € | E17: 750000000 | F17: =G17-E17 -> 23463115 | G17: 7.7346311e+08 | H17: 1.177 | I17: =G17*H17 -> 9.1036609e+08
B18: PTIF’s 4.625% Notes due 2020 | C18: XS0927581842 | D18: € | E18: 1000000000 | F18: =G18-E18 -> 5448630.1 | G18: 1.0054486e+09 | H18: 1.177 | I18: =G18*H18 -> 1.183413e+09
B19: PTIF’s 4.50% Notes due 2025 | C19: XS0221854200 | D19: € | E19: 500000000 | F19: =G19-E19 -> 246575.34 | G19: 5.0024658e+08 | H19: 1.177 | I19: =G19*H19 -> 5.8879022e+08
B20: Coop’s 5.625% Senior Notes due 2021 | C20: XS1245244402 | D20: € | E20: 600000000 | F20: =G20-E20 -> 33565574 | G20: 6.3356557e+08 | H20: 1.177 | I20: =G20*H20 -> 7.4570668e+08
C21: XS1245245045 | F21: =G21-E21 -> 0
B22: Coop’s 5.75% Senior Notes due 2022 | C22: USP18445AG42 | D22: US$ | E22: 1431703000 | F22: =G22-E22 -> 29727722 | G22: 1.4614307e+09 | H22: 1 | I22: =G22*H22 -> 1.4614307e+09
C23: US10553MAD39 | F23: =G23-E23 -> 0
B26: Source of AI calcs/Information | C26: TBC by White & Case/BMA
B27: Source and Date of FX rate taken | C27: TBC by White & Case/BMA
